BEGIN:VCALENDAR
VERSION:2.0
PRODID:-//Cushi Cushi 915
CALSCALE:GREGORIAN
METHOD:PUBLISH
X-WR-CALNAME:Cushi Cushi 915
X-ORIGINAL-URL:https://cushicushi915.com/product/para-mama-for-mom-photo-embroidery-on-fabric-may-6th/
X-WR-CALDESC:Para Mamá / For Mom &#8211; Photo Embroidery on Fabric &#8211; May 6th
BEGIN:VTIMEZONE
TZID:America/Chicago
END:VTIMEZONE
BEGIN:VEVENT
DTSTART;TZID=America/Chicago:20260506T180000
DTEND;TZID=America/Chicago:20260506T210000
DTSTAMP:20260425T143527
UID:4676-enrique@dicedruid.com
SUMMARY:Para Mamá / For Mom – Photo Embroidery on Fabric – May 6th
DESCRIPTION:E-mail us your favorite photograph and we'll print it for you on fabric. Come and make a beautiful and special gift for Mothers Day!  All materials mentioned and light drinks/snacks included. 👉 Please note: ✅ All sales are FINAL and NON-REFUNDABLE ✅ No credits or refunds will be provided for non-attendance and/or cancellations
URL:https://cushicushi915.com/product/para-mama-for-mom-photo-embroidery-on-fabric-may-6th/
LOCATION:1204 Montana Ave, El Paso, TX 79902, USA
END:VEVENT
END:VCALENDAR
