BEGIN:VCALENDAR
VERSION:2.0
PRODID:-//Cushi Cushi 915
CALSCALE:GREGORIAN
METHOD:PUBLISH
X-WR-CALNAME:Cushi Cushi 915
X-ORIGINAL-URL:https://cushicushi915.com/product/feminine-flourish-hand-embroidery/
X-WR-CALDESC:Feminine Flourish Hand Embroidery
BEGIN:VTIMEZONE
TZID:America/Chicago
END:VTIMEZONE
BEGIN:VEVENT
DTSTART;TZID=America/Chicago:20260315T120000
DTEND;TZID=America/Chicago:20260315T150000
DTSTAMP:20260421T084458
UID:4528-enrique@dicedruid.com
SUMMARY:Feminine Flourish Hand Embroidery
DESCRIPTION:Join me at Winedown Socorro on Sunday 03/15 from 12pm to 3pm for a calm and relaxing early afternoon full of slow stitching, wine and good food! This time, we’ll be making a very feminine pattern with greenery and colorful beads. Price is $45 per person with all materials included. ⚠️ Limited spots available. 🛒 Food and drinks are NOT INCLUDED with your ticket, but you can enjoy 15% off on menu items during the class. Join us and sign up today! 👉 Please note: ✅ All sales are FINAL and NON-REFUNDABLE ✅ No credits or refunds will be provided for non-attendance and/or cancellations ✅ Food consumption is NOT included. ✅ No outside food allowed.
URL:https://cushicushi915.com/product/feminine-flourish-hand-embroidery/
LOCATION:10245 Socorro Rd, Socorro, TX 79927, USA
END:VEVENT
END:VCALENDAR
